BEGIN:VCALENDAR
VERSION:2.0
PRODID:-//Sabre//Sabre VObject 4.5.8//EN
CALSCALE:GREGORIAN
BEGIN:VEVENT
UID:sabre-vobject-17f94f1f-3afd-4b9b-82ba-3fc5a501217f
DTSTAMP:20260424T013902Z
SUMMARY:Cadillac Country Show
DESCRIPTION:Country and Western music
X-ALT-DESC:FMTTYPE=text/html:<!DOCTYPE HTML PUBLIC "-//W3C//DTD HTML 3.2//E
 N"><HTML>Country and Western music</HTML>
CREATED;TZID=Europe/Oslo:20170913T134557
URL;VALUE=URI:https://wiesbaden.armymwr.com/calendar/event
DTSTART;TZID=Europe/Oslo:20170224T200000
DTEND;TZID=Europe/Oslo:20170224T010000
SEQUENCE:0
END:VEVENT
END:VCALENDAR
