BEGIN:VCALENDAR
VERSION:2.0
PRODID:-//Sabre//Sabre VObject 4.5.8//EN
CALSCALE:GREGORIAN
BEGIN:VEVENT
UID:sabre-vobject-4416a4f4-3488-46af-99d7-667e2872a875
DTSTAMP:20260425T023113Z
SUMMARY:Showdown at the Capp
DESCRIPTION:DJs spin the tunes
X-ALT-DESC:FMTTYPE=text/html:<!DOCTYPE HTML PUBLIC "-//W3C//DTD HTML 3.2//E
 N"><HTML>DJs spin the tunes</HTML>
CREATED;TZID=Europe/Oslo:20170913T134556
URL;VALUE=URI:https://wiesbaden.armymwr.com/calendar/event
DTSTART;TZID=Europe/Oslo:20170127T200000
DTEND;TZID=Europe/Oslo:20170127T010000
SEQUENCE:0
END:VEVENT
END:VCALENDAR
