BEGIN:VCALENDAR
VERSION:2.0
PRODID:-//Sabre//Sabre VObject 4.5.8//EN
CALSCALE:GREGORIAN
BEGIN:VEVENT
UID:sabre-vobject-409e0ed2-d2d9-488f-a9ee-a82bd0185c0f
DTSTAMP:20260423T160315Z
SUMMARY:Penny-A-Pin Bowling
DESCRIPTION:Pay only for the pins you knock down\n
X-ALT-DESC:FMTTYPE=text/html:<!DOCTYPE HTML PUBLIC "-//W3C//DTD HTML 3.2//E
 N"><HTML><p>Pay only for the pins you knock down</p>\n</HTML>
CREATED;TZID=Europe/Oslo:20200910T153436
URL;VALUE=URI:https://wiesbaden.armymwr.com/calendar/event
DTSTART;TZID=Europe/Oslo:20200902T160000
DTEND;TZID=Europe/Oslo:20200902T220000
SEQUENCE:0
END:VEVENT
END:VCALENDAR
