BEGIN:VCALENDAR
VERSION:2.0
PRODID:-//Sabre//Sabre VObject 4.5.8//EN
CALSCALE:GREGORIAN
BEGIN:VEVENT
UID:sabre-vobject-15cb4034-77fa-4558-9f36-92236ecbf8f3
DTSTAMP:20260422T045031Z
SUMMARY:Preschool Story Time
DESCRIPTION:Read fun stories and make crafts
X-ALT-DESC:FMTTYPE=text/html:<!DOCTYPE HTML PUBLIC "-//W3C//DTD HTML 3.2//E
 N"><HTML>Read fun stories and make crafts</HTML>
CREATED;TZID=Europe/Oslo:20170913T134556
URL;VALUE=URI:https://wiesbaden.armymwr.com/calendar/event
DTSTART;TZID=Europe/Oslo:20160908T100000
DTEND;TZID=Europe/Oslo:20160908T110000
SEQUENCE:0
END:VEVENT
END:VCALENDAR
