BEGIN:VCALENDAR
VERSION:2.0
PRODID:-//Sabre//Sabre VObject 4.5.8//EN
CALSCALE:GREGORIAN
BEGIN:VEVENT
UID:sabre-vobject-f3a9f104-b7a0-4041-82d1-e001360d5398
DTSTAMP:20260419T182036Z
SUMMARY:Valentine's Dinner at the Rheinblick
DESCRIPTION:Treat someone to a special meal on Valentine&#39\;s Day\n
X-ALT-DESC:FMTTYPE=text/html:<!DOCTYPE HTML PUBLIC "-//W3C//DTD HTML 3.2//E
 N"><HTML><p>Treat someone to a special meal on Valentine&#39\;s Day</p>\n<
 /HTML>
CREATED;TZID=Europe/Oslo:20220131T104125
URL;VALUE=URI:https://wiesbaden.armymwr.com/calendar/event
DTSTART;TZID=Europe/Oslo:20220214T173000
DTEND;TZID=Europe/Oslo:20220214T200000
SEQUENCE:0
END:VEVENT
END:VCALENDAR
