BEGIN:VCALENDAR
VERSION:2.0
PRODID:-//Sabre//Sabre VObject 4.5.8//EN
CALSCALE:GREGORIAN
BEGIN:VEVENT
UID:sabre-vobject-b84ed692-aa16-4ba1-b18e-65621d935edb
DTSTAMP:20260419T165147Z
SUMMARY:Vehicle Auction
DESCRIPTION:Bid on a used car at the Wiesbaden Automotive Skills Center\n
X-ALT-DESC:FMTTYPE=text/html:<!DOCTYPE HTML PUBLIC "-//W3C//DTD HTML 3.2//E
 N"><HTML><p>Bid on a used car at the Wiesbaden Automotive Skills Center</p
 >\n</HTML>
CREATED;TZID=Europe/Oslo:20220131T084830
URL;VALUE=URI:https://wiesbaden.armymwr.com/calendar/event
DTSTART;TZID=Europe/Oslo:20220206T150000
DTEND;TZID=Europe/Oslo:20220206T160000
SEQUENCE:0
END:VEVENT
END:VCALENDAR
