BEGIN:VCALENDAR
VERSION:2.0
PRODID:-//Sabre//Sabre VObject 4.5.8//EN
CALSCALE:GREGORIAN
BEGIN:VEVENT
UID:sabre-vobject-4cffea06-b63c-46e7-a1e5-154965d0871b
DTSTAMP:20260419T201812Z
SUMMARY:Promotion Board Study Group
DESCRIPTION:Get help preparing to be your very best\n
X-ALT-DESC:FMTTYPE=text/html:<!DOCTYPE HTML PUBLIC "-//W3C//DTD HTML 3.2//E
 N"><HTML><p>Get help preparing to be your very best</p>\n</HTML>
CREATED;TZID=Europe/Oslo:20220120T082055
URL;VALUE=URI:https://wiesbaden.armymwr.com/calendar/event
DTSTART;TZID=Europe/Oslo:20220210T180000
DTEND;TZID=Europe/Oslo:20220210T200000
SEQUENCE:0
END:VEVENT
END:VCALENDAR
