BEGIN:VCALENDAR
VERSION:2.0
PRODID:-//Sabre//Sabre VObject 4.5.8//EN
CALSCALE:GREGORIAN
BEGIN:VEVENT
UID:sabre-vobject-2ee5e7a9-0d5d-46c9-b376-8ec6f957c37a
DTSTAMP:20260419T182033Z
SUMMARY:Gutenberg Museum Mainz
DESCRIPTION:Learn about the history of printing and practice your public tr
 ansportation skills\n
X-ALT-DESC:FMTTYPE=text/html:<!DOCTYPE HTML PUBLIC "-//W3C//DTD HTML 3.2//E
 N"><HTML><p>Learn about the history of printing and practice your public t
 ransportation skills</p>\n</HTML>
CREATED;TZID=Europe/Oslo:20220118T084639
URL;VALUE=URI:https://wiesbaden.armymwr.com/calendar/event
DTSTART;TZID=Europe/Oslo:20220203T084500
DTEND;TZID=Europe/Oslo:20220203T150000
SEQUENCE:0
END:VEVENT
END:VCALENDAR
