BEGIN:VCALENDAR
VERSION:2.0
PRODID:-//Sabre//Sabre VObject 4.5.8//EN
CALSCALE:GREGORIAN
BEGIN:VEVENT
UID:sabre-vobject-cd7f485e-aafa-40fd-8a03-92dec27ee11e
DTSTAMP:20260420T200607Z
SUMMARY:BOSS Go Karting
DESCRIPTION:Calling all single Soldier speed racers\n
X-ALT-DESC:FMTTYPE=text/html:<!DOCTYPE HTML PUBLIC "-//W3C//DTD HTML 3.2//E
 N"><HTML><p>Calling all single Soldier speed racers</p>\n</HTML>
CREATED;TZID=Europe/Oslo:20220112T093530
URL;VALUE=URI:https://wiesbaden.armymwr.com/calendar/event
DTSTART;TZID=Europe/Oslo:20220128T180000
DTEND;TZID=Europe/Oslo:20220128T220000
SEQUENCE:0
END:VEVENT
END:VCALENDAR
