BEGIN:VCALENDAR
VERSION:2.0
PRODID:-//Sabre//Sabre VObject 4.5.8//EN
CALSCALE:GREGORIAN
BEGIN:VEVENT
UID:sabre-vobject-82053137-e562-4f85-aac9-dae3bfb8fa6d
DTSTAMP:20260420T231552Z
SUMMARY:BOSS Ice Skating
DESCRIPTION:Join Better Opportunities for Single Soldiers for an evening on
  the ice\n
X-ALT-DESC:FMTTYPE=text/html:<!DOCTYPE HTML PUBLIC "-//W3C//DTD HTML 3.2//E
 N"><HTML><p>Join Better Opportunities for Single Soldiers for an evening o
 n the ice</p>\n</HTML>
CREATED;TZID=Europe/Oslo:20220112T093443
URL;VALUE=URI:https://wiesbaden.armymwr.com/calendar/event
DTSTART;TZID=Europe/Oslo:20220122T180000
DTEND;TZID=Europe/Oslo:20220122T220000
SEQUENCE:0
END:VEVENT
END:VCALENDAR
