BEGIN:VCALENDAR
VERSION:2.0
PRODID:-//Sabre//Sabre VObject 4.5.8//EN
CALSCALE:GREGORIAN
BEGIN:VEVENT
UID:sabre-vobject-e0ca3a19-f8a1-4fd9-bd3b-3b69ad8896cf
DTSTAMP:20260421T060727Z
SUMMARY:Vehicle Auction
DESCRIPTION:Bid on a used vehicle at the Automotive Skills Center\n
X-ALT-DESC:FMTTYPE=text/html:<!DOCTYPE HTML PUBLIC "-//W3C//DTD HTML 3.2//E
 N"><HTML><p>Bid on a used vehicle at the Automotive Skills Center</p>\n</H
 TML>
CREATED;TZID=Europe/Oslo:20211216T094021
URL;VALUE=URI:https://wiesbaden.armymwr.com/calendar/event
DTSTART;TZID=Europe/Oslo:20220109T150000
DTEND;TZID=Europe/Oslo:20220109T153000
SEQUENCE:0
END:VEVENT
END:VCALENDAR
