BEGIN:VCALENDAR
VERSION:2.0
PRODID:-//Sabre//Sabre VObject 4.5.8//EN
CALSCALE:GREGORIAN
BEGIN:VEVENT
UID:sabre-vobject-dc032da2-e87b-4a97-b185-1cd59fe763ec
DTSTAMP:20260422T083437Z
SUMMARY:BOSS Movie Night
DESCRIPTION:Join Better Opportunities for Single Soldiers for recreation an
 d volunteer opportunities\n
X-ALT-DESC:FMTTYPE=text/html:<!DOCTYPE HTML PUBLIC "-//W3C//DTD HTML 3.2//E
 N"><HTML><p>Join Better Opportunities for Single Soldiers for recreation a
 nd volunteer opportunities</p>\n</HTML>
CREATED;TZID=Europe/Oslo:20211129T105104
URL;VALUE=URI:https://wiesbaden.armymwr.com/calendar/event
DTSTART;TZID=Europe/Oslo:20211204T180000
DTEND;TZID=Europe/Oslo:20211204T210000
SEQUENCE:0
END:VEVENT
BEGIN:VEVENT
UID:sabre-vobject-9bd97ced-1d11-404a-afa5-f11a2c9b8bca
DTSTAMP:20260422T083437Z
SUMMARY:BOSS Movie Night
DESCRIPTION:Join Better Opportunities for Single Soldiers for recreation an
 d volunteer opportunities\n
X-ALT-DESC:FMTTYPE=text/html:<!DOCTYPE HTML PUBLIC "-//W3C//DTD HTML 3.2//E
 N"><HTML><p>Join Better Opportunities for Single Soldiers for recreation a
 nd volunteer opportunities</p>\n</HTML>
CREATED;TZID=Europe/Oslo:20211129T105104
URL;VALUE=URI:https://wiesbaden.armymwr.com/calendar/event
DTSTART;TZID=Europe/Oslo:20211217T180000
DTEND;TZID=Europe/Oslo:20211217T210000
SEQUENCE:1
END:VEVENT
END:VCALENDAR
