BEGIN:VCALENDAR
VERSION:2.0
PRODID:-//Sabre//Sabre VObject 4.5.8//EN
CALSCALE:GREGORIAN
BEGIN:VEVENT
UID:sabre-vobject-72d8be13-4a28-4b57-b00c-764cc803eb72
DTSTAMP:20260419T201807Z
SUMMARY:Boot Camp
DESCRIPTION:Go from ground zero to hero in a matter of weeks\n
X-ALT-DESC:FMTTYPE=text/html:<!DOCTYPE HTML PUBLIC "-//W3C//DTD HTML 3.2//E
 N"><HTML><p>Go from ground zero to hero in a matter of weeks</p>\n</HTML>
CREATED;TZID=Europe/Oslo:20211116T082741
URL;VALUE=URI:https://wiesbaden.armymwr.com/calendar/event
DTSTART;TZID=Europe/Oslo:20220201T080000
DTEND;TZID=Europe/Oslo:20220317T090000
SEQUENCE:0
END:VEVENT
END:VCALENDAR
