BEGIN:VCALENDAR
VERSION:2.0
PRODID:-//Sabre//Sabre VObject 4.5.8//EN
CALSCALE:GREGORIAN
BEGIN:VEVENT
UID:sabre-vobject-24c27ec7-e83b-4e2b-bbb9-9ab0d53d970e
DTSTAMP:20260422T100329Z
SUMMARY:Ask Relocation Readiness
DESCRIPTION:Enjoy this coffee and cake get-together at ACS\n
X-ALT-DESC:FMTTYPE=text/html:<!DOCTYPE HTML PUBLIC "-//W3C//DTD HTML 3.2//E
 N"><HTML><p>Enjoy this coffee and cake get-together at ACS</p>\n</HTML>
CREATED;TZID=Europe/Oslo:20211110T115515
URL;VALUE=URI:https://wiesbaden.armymwr.com/calendar/event
DTSTART;TZID=Europe/Oslo:20211215T090000
DTEND;TZID=Europe/Oslo:20211215T103000
SEQUENCE:0
END:VEVENT
END:VCALENDAR
