BEGIN:VCALENDAR
VERSION:2.0
PRODID:-//Sabre//Sabre VObject 4.5.8//EN
CALSCALE:GREGORIAN
BEGIN:VEVENT
UID:sabre-vobject-f949c2a4-7b42-42f7-98e7-48040d9ec710
DTSTAMP:20260422T070618Z
SUMMARY:Auditions for Little Women\, the Musical
DESCRIPTION:Light up the stage in this American classic\n
X-ALT-DESC:FMTTYPE=text/html:<!DOCTYPE HTML PUBLIC "-//W3C//DTD HTML 3.2//E
 N"><HTML><p>Light up the stage in this American classic</p>\n</HTML>
CREATED;TZID=Europe/Oslo:20211018T101245
URL;VALUE=URI:https://wiesbaden.armymwr.com/calendar/event
DTSTART;TZID=Europe/Oslo:20211207T190000
DTEND;TZID=Europe/Oslo:20211207T210000
SEQUENCE:0
END:VEVENT
BEGIN:VEVENT
UID:sabre-vobject-527c2caa-856b-472e-8832-0dac3bf4cb2b
DTSTAMP:20260422T070618Z
SUMMARY:Auditions for Little Women\, the Musical
DESCRIPTION:Light up the stage in this American classic\n
X-ALT-DESC:FMTTYPE=text/html:<!DOCTYPE HTML PUBLIC "-//W3C//DTD HTML 3.2//E
 N"><HTML><p>Light up the stage in this American classic</p>\n</HTML>
CREATED;TZID=Europe/Oslo:20211018T101245
URL;VALUE=URI:https://wiesbaden.armymwr.com/calendar/event
DTSTART;TZID=Europe/Oslo:20211208T190000
DTEND;TZID=Europe/Oslo:20211208T210000
SEQUENCE:1
END:VEVENT
END:VCALENDAR
