BEGIN:VCALENDAR
VERSION:2.0
PRODID:-//Sabre//Sabre VObject 4.5.8//EN
CALSCALE:GREGORIAN
BEGIN:VEVENT
UID:sabre-vobject-7473dfc1-463e-4ceb-985e-6979f3498705
DTSTAMP:20260422T051541Z
SUMMARY:Auditions for Anatomy of a Murder
DESCRIPTION:A large cast is needed to bring this courtroom drama to the sta
 ge\n
X-ALT-DESC:FMTTYPE=text/html:<!DOCTYPE HTML PUBLIC "-//W3C//DTD HTML 3.2//E
 N"><HTML><p>A large cast is needed to bring this courtroom drama to the st
 age</p>\n</HTML>
CREATED;TZID=Europe/Oslo:20211014T105146
URL;VALUE=URI:https://wiesbaden.armymwr.com/calendar/event
DTSTART;TZID=Europe/Oslo:20211214T190000
DTEND;TZID=Europe/Oslo:20211214T210000
SEQUENCE:0
END:VEVENT
BEGIN:VEVENT
UID:sabre-vobject-b056461f-99e7-45ef-bf30-4481ac61d265
DTSTAMP:20260422T051541Z
SUMMARY:Auditions for Anatomy of a Murder
DESCRIPTION:A large cast is needed to bring this courtroom drama to the sta
 ge\n
X-ALT-DESC:FMTTYPE=text/html:<!DOCTYPE HTML PUBLIC "-//W3C//DTD HTML 3.2//E
 N"><HTML><p>A large cast is needed to bring this courtroom drama to the st
 age</p>\n</HTML>
CREATED;TZID=Europe/Oslo:20211014T105146
URL;VALUE=URI:https://wiesbaden.armymwr.com/calendar/event
DTSTART;TZID=Europe/Oslo:20211215T190000
DTEND;TZID=Europe/Oslo:20211215T210000
SEQUENCE:1
END:VEVENT
END:VCALENDAR
