BEGIN:VCALENDAR
VERSION:2.0
PRODID:-//Sabre//Sabre VObject 4.5.8//EN
CALSCALE:GREGORIAN
BEGIN:VEVENT
UID:sabre-vobject-a6201e68-4d1e-4489-940d-44f8f152eb9f
DTSTAMP:20260422T131746Z
SUMMARY:Turkey Trot Family 5K Fun Run
DESCRIPTION:Enjoy a little fitness during the season of feasting\n
X-ALT-DESC:FMTTYPE=text/html:<!DOCTYPE HTML PUBLIC "-//W3C//DTD HTML 3.2//E
 N"><HTML><p>Enjoy a little fitness during the season of feasting</p>\n</HT
 ML>
CREATED;TZID=Europe/Oslo:20211013T114013
URL;VALUE=URI:https://wiesbaden.armymwr.com/calendar/event
DTSTART;TZID=Europe/Oslo:20211120T090000
DTEND;TZID=Europe/Oslo:20211120T130000
SEQUENCE:0
END:VEVENT
END:VCALENDAR
