BEGIN:VCALENDAR
VERSION:2.0
PRODID:-//Sabre//Sabre VObject 4.5.8//EN
CALSCALE:GREGORIAN
BEGIN:VEVENT
UID:sabre-vobject-2200032f-67f5-429d-a4cb-2b5f1c3d2cec
DTSTAMP:20260422T113053Z
SUMMARY:Trivia League
DESCRIPTION:Compete for prizes at the Wiesbaden Entertainment Center\n
X-ALT-DESC:FMTTYPE=text/html:<!DOCTYPE HTML PUBLIC "-//W3C//DTD HTML 3.2//E
 N"><HTML><p>Compete for prizes at the Wiesbaden Entertainment Center</p>\n
 </HTML>
CREATED;TZID=Europe/Oslo:20210907T081203
URL;VALUE=URI:https://wiesbaden.armymwr.com/calendar/event
DTSTART;TZID=Europe/Oslo:20210922T190000
DTEND;TZID=Europe/Oslo:20210922T210000
SEQUENCE:0
END:VEVENT
BEGIN:VEVENT
UID:sabre-vobject-5deed4c1-4176-4235-a5bc-29f398272775
DTSTAMP:20260422T113053Z
SUMMARY:Trivia League
DESCRIPTION:Compete for prizes at the Wiesbaden Entertainment Center\n
X-ALT-DESC:FMTTYPE=text/html:<!DOCTYPE HTML PUBLIC "-//W3C//DTD HTML 3.2//E
 N"><HTML><p>Compete for prizes at the Wiesbaden Entertainment Center</p>\n
 </HTML>
CREATED;TZID=Europe/Oslo:20210907T081203
URL;VALUE=URI:https://wiesbaden.armymwr.com/calendar/event
DTSTART;TZID=Europe/Oslo:20211006T190000
DTEND;TZID=Europe/Oslo:20211006T210000
SEQUENCE:1
END:VEVENT
BEGIN:VEVENT
UID:sabre-vobject-238b72c5-ea62-4aca-ad92-66e554a78f3f
DTSTAMP:20260422T113053Z
SUMMARY:Trivia League
DESCRIPTION:Compete for prizes at the Wiesbaden Entertainment Center\n
X-ALT-DESC:FMTTYPE=text/html:<!DOCTYPE HTML PUBLIC "-//W3C//DTD HTML 3.2//E
 N"><HTML><p>Compete for prizes at the Wiesbaden Entertainment Center</p>\n
 </HTML>
CREATED;TZID=Europe/Oslo:20210907T081203
URL;VALUE=URI:https://wiesbaden.armymwr.com/calendar/event
DTSTART;TZID=Europe/Oslo:20211020T190000
DTEND;TZID=Europe/Oslo:20211020T210000
SEQUENCE:2
END:VEVENT
BEGIN:VEVENT
UID:sabre-vobject-612beda4-c834-4eb3-bfb8-df7fc9c50332
DTSTAMP:20260422T113053Z
SUMMARY:Trivia League
DESCRIPTION:Compete for prizes at the Wiesbaden Entertainment Center\n
X-ALT-DESC:FMTTYPE=text/html:<!DOCTYPE HTML PUBLIC "-//W3C//DTD HTML 3.2//E
 N"><HTML><p>Compete for prizes at the Wiesbaden Entertainment Center</p>\n
 </HTML>
CREATED;TZID=Europe/Oslo:20210907T081203
URL;VALUE=URI:https://wiesbaden.armymwr.com/calendar/event
DTSTART;TZID=Europe/Oslo:20211103T190000
DTEND;TZID=Europe/Oslo:20211103T210000
SEQUENCE:3
END:VEVENT
BEGIN:VEVENT
UID:sabre-vobject-e95ffb10-b8fa-4cdf-8cb8-15ceda139f09
DTSTAMP:20260422T113053Z
SUMMARY:Trivia League
DESCRIPTION:Compete for prizes at the Wiesbaden Entertainment Center\n
X-ALT-DESC:FMTTYPE=text/html:<!DOCTYPE HTML PUBLIC "-//W3C//DTD HTML 3.2//E
 N"><HTML><p>Compete for prizes at the Wiesbaden Entertainment Center</p>\n
 </HTML>
CREATED;TZID=Europe/Oslo:20210907T081203
URL;VALUE=URI:https://wiesbaden.armymwr.com/calendar/event
DTSTART;TZID=Europe/Oslo:20211117T190000
DTEND;TZID=Europe/Oslo:20211117T210000
SEQUENCE:4
END:VEVENT
BEGIN:VEVENT
UID:sabre-vobject-bb022f12-0aa7-4bd4-bf45-1d75ab3bd28e
DTSTAMP:20260422T113053Z
SUMMARY:Trivia League
DESCRIPTION:Compete for prizes at the Wiesbaden Entertainment Center\n
X-ALT-DESC:FMTTYPE=text/html:<!DOCTYPE HTML PUBLIC "-//W3C//DTD HTML 3.2//E
 N"><HTML><p>Compete for prizes at the Wiesbaden Entertainment Center</p>\n
 </HTML>
CREATED;TZID=Europe/Oslo:20210907T081203
URL;VALUE=URI:https://wiesbaden.armymwr.com/calendar/event
DTSTART;TZID=Europe/Oslo:20211201T190000
DTEND;TZID=Europe/Oslo:20211201T210000
SEQUENCE:5
END:VEVENT
BEGIN:VEVENT
UID:sabre-vobject-5316f9f6-5786-4b30-b14d-fa9759b0f356
DTSTAMP:20260422T113053Z
SUMMARY:Trivia League
DESCRIPTION:Compete for prizes at the Wiesbaden Entertainment Center\n
X-ALT-DESC:FMTTYPE=text/html:<!DOCTYPE HTML PUBLIC "-//W3C//DTD HTML 3.2//E
 N"><HTML><p>Compete for prizes at the Wiesbaden Entertainment Center</p>\n
 </HTML>
CREATED;TZID=Europe/Oslo:20210907T081203
URL;VALUE=URI:https://wiesbaden.armymwr.com/calendar/event
DTSTART;TZID=Europe/Oslo:20211215T190000
DTEND;TZID=Europe/Oslo:20211215T210000
SEQUENCE:6
END:VEVENT
END:VCALENDAR
