BEGIN:VCALENDAR
VERSION:2.0
PRODID:-//Sabre//Sabre VObject 4.5.8//EN
CALSCALE:GREGORIAN
BEGIN:VEVENT
UID:sabre-vobject-5e4939e6-b973-4790-9808-752f799e9cfa
DTSTAMP:20260424T173331Z
SUMMARY:Couples Salsa Night
DESCRIPTION:Enjoy a night of dancing\n
X-ALT-DESC:FMTTYPE=text/html:<!DOCTYPE HTML PUBLIC "-//W3C//DTD HTML 3.2//E
 N"><HTML><p>Enjoy a night of dancing</p>\n</HTML>
CREATED;TZID=Europe/Oslo:20210826T082853
URL;VALUE=URI:https://wiesbaden.armymwr.com/calendar/event
DTSTART;TZID=Europe/Oslo:20211001T180000
DTEND;TZID=Europe/Oslo:20211001T200000
SEQUENCE:0
END:VEVENT
END:VCALENDAR
