BEGIN:VCALENDAR
VERSION:2.0
PRODID:-//Sabre//Sabre VObject 4.5.8//EN
CALSCALE:GREGORIAN
BEGIN:VEVENT
UID:sabre-vobject-b501698c-15cf-4d27-b2a6-1a6baba50b75
DTSTAMP:20260422T131746Z
SUMMARY:Gobble\, Gobble Turkey Book Trot
DESCRIPTION:Design your very own customized bookmark\n
X-ALT-DESC:FMTTYPE=text/html:<!DOCTYPE HTML PUBLIC "-//W3C//DTD HTML 3.2//E
 N"><HTML><p>Design your very own customized bookmark</p>\n</HTML>
CREATED;TZID=Europe/Oslo:20210810T085338
URL;VALUE=URI:https://wiesbaden.armymwr.com/calendar/event
DTSTART;TZID=Europe/Oslo:20211121T100000
DTEND;TZID=Europe/Oslo:20211121T113000
SEQUENCE:0
END:VEVENT
END:VCALENDAR
