BEGIN:VCALENDAR
VERSION:2.0
PRODID:-//Sabre//Sabre VObject 4.5.8//EN
CALSCALE:GREGORIAN
BEGIN:VEVENT
UID:sabre-vobject-68f61fee-17a6-4450-a616-e208a9050c57
DTSTAMP:20260424T065301Z
SUMMARY:Lego Block Party
DESCRIPTION:Get creative with legos\n
X-ALT-DESC:FMTTYPE=text/html:<!DOCTYPE HTML PUBLIC "-//W3C//DTD HTML 3.2//E
 N"><HTML><p>Get creative with legos</p>\n</HTML>
CREATED;TZID=Europe/Oslo:20210809T110056
URL;VALUE=URI:https://wiesbaden.armymwr.com/calendar/event
DTSTART;TZID=Europe/Oslo:20211017T100000
DTEND;TZID=Europe/Oslo:20211017T113000
SEQUENCE:0
END:VEVENT
END:VCALENDAR
