BEGIN:VCALENDAR
VERSION:2.0
PRODID:-//Sabre//Sabre VObject 4.5.8//EN
CALSCALE:GREGORIAN
BEGIN:VEVENT
UID:sabre-vobject-9e4f0d93-a605-492c-a39a-cc9923ae7c22
DTSTAMP:20260424T161625Z
SUMMARY:Career Fair
DESCRIPTION:Connect with local and U.S. employers\n
X-ALT-DESC:FMTTYPE=text/html:<!DOCTYPE HTML PUBLIC "-//W3C//DTD HTML 3.2//E
 N"><HTML><p>Connect with local and U.S. employers</p>\n</HTML>
CREATED;TZID=Europe/Oslo:20210825T083829
URL;VALUE=URI:https://wiesbaden.armymwr.com/calendar/event
DTSTART;TZID=Europe/Oslo:20210929T100000
DTEND;TZID=Europe/Oslo:20210929T140000
SEQUENCE:0
END:VEVENT
END:VCALENDAR
