BEGIN:VCALENDAR
VERSION:2.0
PRODID:-//Sabre//Sabre VObject 4.5.8//EN
CALSCALE:GREGORIAN
BEGIN:VEVENT
UID:sabre-vobject-6cae4e0c-911d-489f-8027-ec67e60ddca4
DTSTAMP:20260419T201809Z
SUMMARY:Super Bowl Fun at the WEC
DESCRIPTION:Join fellow gridiron fans in celebrating the NFL&#39\;s annual 
 showdown\n
X-ALT-DESC:FMTTYPE=text/html:<!DOCTYPE HTML PUBLIC "-//W3C//DTD HTML 3.2//E
 N"><HTML><p>Join fellow gridiron fans in celebrating the NFL&#39\;s annual
  showdown</p>\n</HTML>
CREATED;TZID=Europe/Oslo:20220118T074317
URL;VALUE=URI:https://wiesbaden.armymwr.com/calendar/event
DTSTART;TZID=Europe/Oslo:20220213T210000
DTEND;TZID=Europe/Oslo:20220213T030000
SEQUENCE:0
END:VEVENT
END:VCALENDAR
