BEGIN:VCALENDAR
VERSION:2.0
PRODID:-//Sabre//Sabre VObject 4.5.8//EN
CALSCALE:GREGORIAN
BEGIN:VEVENT
UID:sabre-vobject-5459ec7d-e288-4f39-b3c5-7f840e1a3ca8
DTSTAMP:20260422T033353Z
SUMMARY:Christmas Smoked Ham or Turkey Special
DESCRIPTION:Leave the cooking to the WEC professionals\n
X-ALT-DESC:FMTTYPE=text/html:<!DOCTYPE HTML PUBLIC "-//W3C//DTD HTML 3.2//E
 N"><HTML><p>Leave the cooking to the WEC professionals</p>\n</HTML>
CREATED;TZID=Europe/Oslo:20211208T073101
URL;VALUE=URI:https://wiesbaden.armymwr.com/calendar/event
DTSTART;TZID=Europe/Oslo:20211225T000000
DTEND;TZID=Europe/Oslo:20211225T235959
SEQUENCE:0
END:VEVENT
END:VCALENDAR
