BEGIN:VCALENDAR
VERSION:2.0
PRODID:-//Sabre//Sabre VObject 4.5.8//EN
CALSCALE:GREGORIAN
BEGIN:VEVENT
UID:sabre-vobject-fd75a049-d86e-459e-9d60-4ebee97edad0
DTSTAMP:20260424T034928Z
SUMMARY:Fall Bazaar
DESCRIPTION:Shop for European merchandise during this one-stop bazaar\n
X-ALT-DESC:FMTTYPE=text/html:<!DOCTYPE HTML PUBLIC "-//W3C//DTD HTML 3.2//E
 N"><HTML><p>Shop for European merchandise during this one-stop bazaar</p>\
 n</HTML>
CREATED;TZID=Europe/Oslo:20211013T102510
URL;VALUE=URI:https://wiesbaden.armymwr.com/calendar/event
DTSTART;TZID=Europe/Oslo:20211015T110000
DTEND;TZID=Europe/Oslo:20211015T190000
SEQUENCE:0
END:VEVENT
BEGIN:VEVENT
UID:sabre-vobject-16f8cd40-db3a-4513-b2b0-75423e1b59e7
DTSTAMP:20260424T034928Z
SUMMARY:Fall Bazaar
DESCRIPTION:Shop for European merchandise during this one-stop bazaar\n
X-ALT-DESC:FMTTYPE=text/html:<!DOCTYPE HTML PUBLIC "-//W3C//DTD HTML 3.2//E
 N"><HTML><p>Shop for European merchandise during this one-stop bazaar</p>\
 n</HTML>
CREATED;TZID=Europe/Oslo:20211013T102510
URL;VALUE=URI:https://wiesbaden.armymwr.com/calendar/event
DTSTART;TZID=Europe/Oslo:20211016T100000
DTEND;TZID=Europe/Oslo:20211016T180000
SEQUENCE:1
END:VEVENT
BEGIN:VEVENT
UID:sabre-vobject-5b620029-ac2c-47df-8ab8-4c1061712ab6
DTSTAMP:20260424T034928Z
SUMMARY:Fall Bazaar
DESCRIPTION:Shop for European merchandise during this one-stop bazaar\n
X-ALT-DESC:FMTTYPE=text/html:<!DOCTYPE HTML PUBLIC "-//W3C//DTD HTML 3.2//E
 N"><HTML><p>Shop for European merchandise during this one-stop bazaar</p>\
 n</HTML>
CREATED;TZID=Europe/Oslo:20211013T102510
URL;VALUE=URI:https://wiesbaden.armymwr.com/calendar/event
DTSTART;TZID=Europe/Oslo:20211017T110000
DTEND;TZID=Europe/Oslo:20211017T170000
SEQUENCE:2
END:VEVENT
END:VCALENDAR
