BEGIN:VCALENDAR
VERSION:2.0
PRODID:-//Sabre//Sabre VObject 4.5.8//EN
CALSCALE:GREGORIAN
BEGIN:VEVENT
UID:sabre-vobject-e75f93ee-53f2-4297-87d4-f619497c7010
DTSTAMP:20260425T155245Z
SUMMARY:ODR 50th Anniversary and Grand Opening Celebration
DESCRIPTION:Join the staff in officially opening the new center\n
X-ALT-DESC:FMTTYPE=text/html:<!DOCTYPE HTML PUBLIC "-//W3C//DTD HTML 3.2//E
 N"><HTML><p>Join the staff in officially opening the new center</p>\n</HTM
 L>
CREATED;TZID=Europe/Oslo:20210825T114829
URL;VALUE=URI:https://wiesbaden.armymwr.com/calendar/event
DTSTART;TZID=Europe/Oslo:20210907T110000
DTEND;TZID=Europe/Oslo:20210907T170000
SEQUENCE:0
END:VEVENT
END:VCALENDAR
