BEGIN:VCALENDAR
VERSION:2.0
PRODID:-//Sabre//Sabre VObject 4.5.8//EN
CALSCALE:GREGORIAN
BEGIN:VEVENT
UID:sabre-vobject-1cf04b3f-761b-425b-aef8-f6e2c7047361
DTSTAMP:20260425T203329Z
SUMMARY:Youth Golf Academy
DESCRIPTION:Learn to play the game of golf\n
X-ALT-DESC:FMTTYPE=text/html:<!DOCTYPE HTML PUBLIC "-//W3C//DTD HTML 3.2//E
 N"><HTML><p>Learn to play the game of golf</p>\n</HTML>
CREATED;TZID=Europe/Oslo:20210624T110410
URL;VALUE=URI:https://wiesbaden.armymwr.com/calendar/event
DTSTART;TZID=Europe/Oslo:20210703T130000
DTEND;TZID=Europe/Oslo:20210703T140000
SEQUENCE:0
END:VEVENT
BEGIN:VEVENT
UID:sabre-vobject-d0a2a0a7-c9c7-4462-b079-7c530cac8bc4
DTSTAMP:20260425T203329Z
SUMMARY:Youth Golf Academy
DESCRIPTION:Learn to play the game of golf\n
X-ALT-DESC:FMTTYPE=text/html:<!DOCTYPE HTML PUBLIC "-//W3C//DTD HTML 3.2//E
 N"><HTML><p>Learn to play the game of golf</p>\n</HTML>
CREATED;TZID=Europe/Oslo:20210624T110410
URL;VALUE=URI:https://wiesbaden.armymwr.com/calendar/event
DTSTART;TZID=Europe/Oslo:20210710T130000
DTEND;TZID=Europe/Oslo:20210710T140000
SEQUENCE:1
END:VEVENT
BEGIN:VEVENT
UID:sabre-vobject-419ccae1-57b1-45eb-a534-674d976c8c48
DTSTAMP:20260425T203329Z
SUMMARY:Youth Golf Academy
DESCRIPTION:Learn to play the game of golf\n
X-ALT-DESC:FMTTYPE=text/html:<!DOCTYPE HTML PUBLIC "-//W3C//DTD HTML 3.2//E
 N"><HTML><p>Learn to play the game of golf</p>\n</HTML>
CREATED;TZID=Europe/Oslo:20210624T110410
URL;VALUE=URI:https://wiesbaden.armymwr.com/calendar/event
DTSTART;TZID=Europe/Oslo:20210717T130000
DTEND;TZID=Europe/Oslo:20210717T140000
SEQUENCE:2
END:VEVENT
BEGIN:VEVENT
UID:sabre-vobject-9066685c-263d-427c-9dd5-9ae6d038a986
DTSTAMP:20260425T203329Z
SUMMARY:Youth Golf Academy
DESCRIPTION:Learn to play the game of golf\n
X-ALT-DESC:FMTTYPE=text/html:<!DOCTYPE HTML PUBLIC "-//W3C//DTD HTML 3.2//E
 N"><HTML><p>Learn to play the game of golf</p>\n</HTML>
CREATED;TZID=Europe/Oslo:20210624T110410
URL;VALUE=URI:https://wiesbaden.armymwr.com/calendar/event
DTSTART;TZID=Europe/Oslo:20210807T130000
DTEND;TZID=Europe/Oslo:20210807T140000
SEQUENCE:3
END:VEVENT
BEGIN:VEVENT
UID:sabre-vobject-6d15b088-058d-4364-af67-8e948c1f927b
DTSTAMP:20260425T203329Z
SUMMARY:Youth Golf Academy
DESCRIPTION:Learn to play the game of golf\n
X-ALT-DESC:FMTTYPE=text/html:<!DOCTYPE HTML PUBLIC "-//W3C//DTD HTML 3.2//E
 N"><HTML><p>Learn to play the game of golf</p>\n</HTML>
CREATED;TZID=Europe/Oslo:20210624T110410
URL;VALUE=URI:https://wiesbaden.armymwr.com/calendar/event
DTSTART;TZID=Europe/Oslo:20210821T130000
DTEND;TZID=Europe/Oslo:20210821T140000
SEQUENCE:4
END:VEVENT
BEGIN:VEVENT
UID:sabre-vobject-8bcc8212-b72a-4ba7-b3a9-1083cf4639f1
DTSTAMP:20260425T203329Z
SUMMARY:Youth Golf Academy
DESCRIPTION:Learn to play the game of golf\n
X-ALT-DESC:FMTTYPE=text/html:<!DOCTYPE HTML PUBLIC "-//W3C//DTD HTML 3.2//E
 N"><HTML><p>Learn to play the game of golf</p>\n</HTML>
CREATED;TZID=Europe/Oslo:20210624T110410
URL;VALUE=URI:https://wiesbaden.armymwr.com/calendar/event
DTSTART;TZID=Europe/Oslo:20210828T130000
DTEND;TZID=Europe/Oslo:20210828T140000
SEQUENCE:5
END:VEVENT
BEGIN:VEVENT
UID:sabre-vobject-f5e9881f-8f79-401f-945a-366ad4cda4bd
DTSTAMP:20260425T203329Z
SUMMARY:Youth Golf Academy
DESCRIPTION:Learn to play the game of golf\n
X-ALT-DESC:FMTTYPE=text/html:<!DOCTYPE HTML PUBLIC "-//W3C//DTD HTML 3.2//E
 N"><HTML><p>Learn to play the game of golf</p>\n</HTML>
CREATED;TZID=Europe/Oslo:20210624T110410
URL;VALUE=URI:https://wiesbaden.armymwr.com/calendar/event
DTSTART;TZID=Europe/Oslo:20210911T130000
DTEND;TZID=Europe/Oslo:20210911T140000
SEQUENCE:6
END:VEVENT
END:VCALENDAR
