BEGIN:VCALENDAR
VERSION:2.0
PRODID:-//Sabre//Sabre VObject 4.5.8//EN
CALSCALE:GREGORIAN
BEGIN:VEVENT
UID:sabre-vobject-e479d19d-796c-45d1-a77d-e5725d40526a
DTSTAMP:20260425T103813Z
SUMMARY:Virtual Love and Money: Financial Education for Couples
DESCRIPTION:Take a Touchpoint Training class to enhance your financial read
 iness\n
X-ALT-DESC:FMTTYPE=text/html:<!DOCTYPE HTML PUBLIC "-//W3C//DTD HTML 3.2//E
 N"><HTML><p>Take a Touchpoint Training class to enhance your financial rea
 diness</p>\n</HTML>
CREATED;TZID=Europe/Oslo:20201104T174526
URL;VALUE=URI:https://wiesbaden.armymwr.com/calendar/event
DTSTART;TZID=Europe/Oslo:20201020T103000
DTEND;TZID=Europe/Oslo:20201020T120000
SEQUENCE:0
END:VEVENT
BEGIN:VEVENT
UID:sabre-vobject-5f8f49e8-6538-4aea-99b7-88cfb552a4f1
DTSTAMP:20260425T103813Z
SUMMARY:Virtual Love and Money: Financial Education for Couples
DESCRIPTION:Take a Touchpoint Training class to enhance your financial read
 iness\n
X-ALT-DESC:FMTTYPE=text/html:<!DOCTYPE HTML PUBLIC "-//W3C//DTD HTML 3.2//E
 N"><HTML><p>Take a Touchpoint Training class to enhance your financial rea
 diness</p>\n</HTML>
CREATED;TZID=Europe/Oslo:20201104T174526
URL;VALUE=URI:https://wiesbaden.armymwr.com/calendar/event
DTSTART;TZID=Europe/Oslo:20201201T103000
DTEND;TZID=Europe/Oslo:20201201T120000
SEQUENCE:1
END:VEVENT
BEGIN:VEVENT
UID:sabre-vobject-5cef0b7e-f006-406d-b138-7492487cb384
DTSTAMP:20260425T103813Z
SUMMARY:Virtual Love and Money: Financial Education for Couples
DESCRIPTION:Take a Touchpoint Training class to enhance your financial read
 iness\n
X-ALT-DESC:FMTTYPE=text/html:<!DOCTYPE HTML PUBLIC "-//W3C//DTD HTML 3.2//E
 N"><HTML><p>Take a Touchpoint Training class to enhance your financial rea
 diness</p>\n</HTML>
CREATED;TZID=Europe/Oslo:20201104T174526
URL;VALUE=URI:https://wiesbaden.armymwr.com/calendar/event
DTSTART;TZID=Europe/Oslo:20210119T103000
DTEND;TZID=Europe/Oslo:20210119T120000
SEQUENCE:2
END:VEVENT
BEGIN:VEVENT
UID:sabre-vobject-3d9c8245-a1db-46fc-af0a-9cdef00fd87e
DTSTAMP:20260425T103813Z
SUMMARY:Virtual Love and Money: Financial Education for Couples
DESCRIPTION:Take a Touchpoint Training class to enhance your financial read
 iness\n
X-ALT-DESC:FMTTYPE=text/html:<!DOCTYPE HTML PUBLIC "-//W3C//DTD HTML 3.2//E
 N"><HTML><p>Take a Touchpoint Training class to enhance your financial rea
 diness</p>\n</HTML>
CREATED;TZID=Europe/Oslo:20201104T174526
URL;VALUE=URI:https://wiesbaden.armymwr.com/calendar/event
DTSTART;TZID=Europe/Oslo:20210302T103000
DTEND;TZID=Europe/Oslo:20210302T120000
SEQUENCE:3
END:VEVENT
BEGIN:VEVENT
UID:sabre-vobject-5b889e79-9f5a-45d7-a0de-8e22abf7212c
DTSTAMP:20260425T103813Z
SUMMARY:Virtual Love and Money: Financial Education for Couples
DESCRIPTION:Take a Touchpoint Training class to enhance your financial read
 iness\n
X-ALT-DESC:FMTTYPE=text/html:<!DOCTYPE HTML PUBLIC "-//W3C//DTD HTML 3.2//E
 N"><HTML><p>Take a Touchpoint Training class to enhance your financial rea
 diness</p>\n</HTML>
CREATED;TZID=Europe/Oslo:20201104T174526
URL;VALUE=URI:https://wiesbaden.armymwr.com/calendar/event
DTSTART;TZID=Europe/Oslo:20210420T103000
DTEND;TZID=Europe/Oslo:20210420T120000
SEQUENCE:4
END:VEVENT
BEGIN:VEVENT
UID:sabre-vobject-27ed242c-68f9-4435-a7cf-f5e404c428b9
DTSTAMP:20260425T103813Z
SUMMARY:Virtual Love and Money: Financial Education for Couples
DESCRIPTION:Take a Touchpoint Training class to enhance your financial read
 iness\n
X-ALT-DESC:FMTTYPE=text/html:<!DOCTYPE HTML PUBLIC "-//W3C//DTD HTML 3.2//E
 N"><HTML><p>Take a Touchpoint Training class to enhance your financial rea
 diness</p>\n</HTML>
CREATED;TZID=Europe/Oslo:20201104T174526
URL;VALUE=URI:https://wiesbaden.armymwr.com/calendar/event
DTSTART;TZID=Europe/Oslo:20210601T103000
DTEND;TZID=Europe/Oslo:20210601T120000
SEQUENCE:5
END:VEVENT
BEGIN:VEVENT
UID:sabre-vobject-07ccb0d4-151a-4399-b118-c9e27a1a321c
DTSTAMP:20260425T103813Z
SUMMARY:Virtual Love and Money: Financial Education for Couples
DESCRIPTION:Take a Touchpoint Training class to enhance your financial read
 iness\n
X-ALT-DESC:FMTTYPE=text/html:<!DOCTYPE HTML PUBLIC "-//W3C//DTD HTML 3.2//E
 N"><HTML><p>Take a Touchpoint Training class to enhance your financial rea
 diness</p>\n</HTML>
CREATED;TZID=Europe/Oslo:20201104T174526
URL;VALUE=URI:https://wiesbaden.armymwr.com/calendar/event
DTSTART;TZID=Europe/Oslo:20210720T103000
DTEND;TZID=Europe/Oslo:20210720T120000
SEQUENCE:6
END:VEVENT
BEGIN:VEVENT
UID:sabre-vobject-6f37b0b5-a4f9-4862-85d0-af5cb634c43f
DTSTAMP:20260425T103813Z
SUMMARY:Virtual Love and Money: Financial Education for Couples
DESCRIPTION:Take a Touchpoint Training class to enhance your financial read
 iness\n
X-ALT-DESC:FMTTYPE=text/html:<!DOCTYPE HTML PUBLIC "-//W3C//DTD HTML 3.2//E
 N"><HTML><p>Take a Touchpoint Training class to enhance your financial rea
 diness</p>\n</HTML>
CREATED;TZID=Europe/Oslo:20201104T174526
URL;VALUE=URI:https://wiesbaden.armymwr.com/calendar/event
DTSTART;TZID=Europe/Oslo:20210907T103000
DTEND;TZID=Europe/Oslo:20210907T120000
SEQUENCE:7
END:VEVENT
END:VCALENDAR
