BEGIN:VCALENDAR
VERSION:2.0
PRODID:-//Sabre//Sabre VObject 4.5.8//EN
CALSCALE:GREGORIAN
BEGIN:VEVENT
UID:sabre-vobject-d5425911-1c1d-45a3-b98f-71260c6cd377
DTSTAMP:20260424T161623Z
SUMMARY:The 39 Steps
DESCRIPTION:Enjoy a fast-paced whodunnit for anyone who loves the magic of 
 theater.\n
X-ALT-DESC:FMTTYPE=text/html:<!DOCTYPE HTML PUBLIC "-//W3C//DTD HTML 3.2//E
 N"><HTML><p>Enjoy a fast-paced whodunnit for anyone who loves the magic of
  theater.</p>\n</HTML>
CREATED;TZID=Europe/Oslo:20200924T112128
URL;VALUE=URI:https://wiesbaden.armymwr.com/calendar/event
DTSTART;TZID=Europe/Oslo:20201002T193000
DTEND;TZID=Europe/Oslo:20201002T215000
SEQUENCE:0
END:VEVENT
BEGIN:VEVENT
UID:sabre-vobject-cff50fac-633e-47df-8de6-19e5f851fc2e
DTSTAMP:20260424T161623Z
SUMMARY:The 39 Steps
DESCRIPTION:Enjoy a fast-paced whodunnit for anyone who loves the magic of 
 theater.\n
X-ALT-DESC:FMTTYPE=text/html:<!DOCTYPE HTML PUBLIC "-//W3C//DTD HTML 3.2//E
 N"><HTML><p>Enjoy a fast-paced whodunnit for anyone who loves the magic of
  theater.</p>\n</HTML>
CREATED;TZID=Europe/Oslo:20200924T112128
URL;VALUE=URI:https://wiesbaden.armymwr.com/calendar/event
DTSTART;TZID=Europe/Oslo:20201003T193000
DTEND;TZID=Europe/Oslo:20201003T215000
SEQUENCE:1
END:VEVENT
BEGIN:VEVENT
UID:sabre-vobject-0efb3395-29ca-4c4d-83c1-e62273963125
DTSTAMP:20260424T161623Z
SUMMARY:The 39 Steps
DESCRIPTION:Enjoy a fast-paced whodunnit for anyone who loves the magic of 
 theater.\n
X-ALT-DESC:FMTTYPE=text/html:<!DOCTYPE HTML PUBLIC "-//W3C//DTD HTML 3.2//E
 N"><HTML><p>Enjoy a fast-paced whodunnit for anyone who loves the magic of
  theater.</p>\n</HTML>
CREATED;TZID=Europe/Oslo:20200924T112128
URL;VALUE=URI:https://wiesbaden.armymwr.com/calendar/event
DTSTART;TZID=Europe/Oslo:20201017T193000
DTEND;TZID=Europe/Oslo:20201017T215000
SEQUENCE:2
END:VEVENT
BEGIN:VEVENT
UID:sabre-vobject-12f500ae-cd56-4fa0-9129-37104e2ed8f2
DTSTAMP:20260424T161623Z
SUMMARY:The 39 Steps
DESCRIPTION:Enjoy a fast-paced whodunnit for anyone who loves the magic of 
 theater.\n
X-ALT-DESC:FMTTYPE=text/html:<!DOCTYPE HTML PUBLIC "-//W3C//DTD HTML 3.2//E
 N"><HTML><p>Enjoy a fast-paced whodunnit for anyone who loves the magic of
  theater.</p>\n</HTML>
CREATED;TZID=Europe/Oslo:20200924T112128
URL;VALUE=URI:https://wiesbaden.armymwr.com/calendar/event
DTSTART;TZID=Europe/Oslo:20201018T140000
DTEND;TZID=Europe/Oslo:20201018T162000
SEQUENCE:3
END:VEVENT
BEGIN:VEVENT
UID:sabre-vobject-5cbf2984-7b1f-4207-b88d-e97bc0b24236
DTSTAMP:20260424T161623Z
SUMMARY:The 39 Steps
DESCRIPTION:Enjoy a fast-paced whodunnit for anyone who loves the magic of 
 theater.\n
X-ALT-DESC:FMTTYPE=text/html:<!DOCTYPE HTML PUBLIC "-//W3C//DTD HTML 3.2//E
 N"><HTML><p>Enjoy a fast-paced whodunnit for anyone who loves the magic of
  theater.</p>\n</HTML>
CREATED;TZID=Europe/Oslo:20200924T112128
URL;VALUE=URI:https://wiesbaden.armymwr.com/calendar/event
DTSTART;TZID=Europe/Oslo:20200925T193000
DTEND;TZID=Europe/Oslo:20200925T221000
SEQUENCE:4
END:VEVENT
BEGIN:VEVENT
UID:sabre-vobject-19f9ba68-12e4-4312-8b0e-48dde12f5620
DTSTAMP:20260424T161623Z
SUMMARY:The 39 Steps
DESCRIPTION:Enjoy a fast-paced whodunnit for anyone who loves the magic of 
 theater.\n
X-ALT-DESC:FMTTYPE=text/html:<!DOCTYPE HTML PUBLIC "-//W3C//DTD HTML 3.2//E
 N"><HTML><p>Enjoy a fast-paced whodunnit for anyone who loves the magic of
  theater.</p>\n</HTML>
CREATED;TZID=Europe/Oslo:20200924T112128
URL;VALUE=URI:https://wiesbaden.armymwr.com/calendar/event
DTSTART;TZID=Europe/Oslo:20200926T193000
DTEND;TZID=Europe/Oslo:20200926T221000
SEQUENCE:5
END:VEVENT
END:VCALENDAR
