BEGIN:VCALENDAR
VERSION:2.0
PRODID:-//Sabre//Sabre VObject 4.5.8//EN
CALSCALE:GREGORIAN
BEGIN:VEVENT
UID:sabre-vobject-f44db68a-ee12-49c3-9038-1ee06cc30fb2
DTSTAMP:20260424T173335Z
SUMMARY:Sleeping Beauty\, Briar Rose
DESCRIPTION:Be dazzled by a new telling of the classic tale\n
X-ALT-DESC:FMTTYPE=text/html:<!DOCTYPE HTML PUBLIC "-//W3C//DTD HTML 3.2//E
 N"><HTML><p>Be dazzled by a new telling of the classic tale</p>\n</HTML>
CREATED;TZID=Europe/Oslo:20200924T112340
URL;VALUE=URI:https://wiesbaden.armymwr.com/calendar/event
DTSTART;TZID=Europe/Oslo:20201003T140000
DTEND;TZID=Europe/Oslo:20201003T144500
SEQUENCE:0
END:VEVENT
BEGIN:VEVENT
UID:sabre-vobject-1e0cf1d3-c528-42de-97dc-b23746e7f3b0
DTSTAMP:20260424T173335Z
SUMMARY:Sleeping Beauty\, Briar Rose
DESCRIPTION:Be dazzled by a new telling of the classic tale\n
X-ALT-DESC:FMTTYPE=text/html:<!DOCTYPE HTML PUBLIC "-//W3C//DTD HTML 3.2//E
 N"><HTML><p>Be dazzled by a new telling of the classic tale</p>\n</HTML>
CREATED;TZID=Europe/Oslo:20200924T112340
URL;VALUE=URI:https://wiesbaden.armymwr.com/calendar/event
DTSTART;TZID=Europe/Oslo:20201004T140000
DTEND;TZID=Europe/Oslo:20201004T144500
SEQUENCE:1
END:VEVENT
BEGIN:VEVENT
UID:sabre-vobject-260d269d-bea9-44a7-8537-d24a375367d9
DTSTAMP:20260424T173335Z
SUMMARY:Sleeping Beauty\, Briar Rose
DESCRIPTION:Be dazzled by a new telling of the classic tale\n
X-ALT-DESC:FMTTYPE=text/html:<!DOCTYPE HTML PUBLIC "-//W3C//DTD HTML 3.2//E
 N"><HTML><p>Be dazzled by a new telling of the classic tale</p>\n</HTML>
CREATED;TZID=Europe/Oslo:20200924T112340
URL;VALUE=URI:https://wiesbaden.armymwr.com/calendar/event
DTSTART;TZID=Europe/Oslo:20201016T190000
DTEND;TZID=Europe/Oslo:20201016T194500
SEQUENCE:2
END:VEVENT
BEGIN:VEVENT
UID:sabre-vobject-23a60df0-5ea7-4e8f-824d-37a5138e406e
DTSTAMP:20260424T173335Z
SUMMARY:Sleeping Beauty\, Briar Rose
DESCRIPTION:Be dazzled by a new telling of the classic tale\n
X-ALT-DESC:FMTTYPE=text/html:<!DOCTYPE HTML PUBLIC "-//W3C//DTD HTML 3.2//E
 N"><HTML><p>Be dazzled by a new telling of the classic tale</p>\n</HTML>
CREATED;TZID=Europe/Oslo:20200924T112340
URL;VALUE=URI:https://wiesbaden.armymwr.com/calendar/event
DTSTART;TZID=Europe/Oslo:20201017T140000
DTEND;TZID=Europe/Oslo:20201017T144500
SEQUENCE:3
END:VEVENT
BEGIN:VEVENT
UID:sabre-vobject-20fcfc85-35ca-46d8-83cc-f7c99087a80d
DTSTAMP:20260424T173335Z
SUMMARY:Sleeping Beauty\, Briar Rose
DESCRIPTION:Be dazzled by a new telling of the classic tale\n
X-ALT-DESC:FMTTYPE=text/html:<!DOCTYPE HTML PUBLIC "-//W3C//DTD HTML 3.2//E
 N"><HTML><p>Be dazzled by a new telling of the classic tale</p>\n</HTML>
CREATED;TZID=Europe/Oslo:20200924T112340
URL;VALUE=URI:https://wiesbaden.armymwr.com/calendar/event
DTSTART;TZID=Europe/Oslo:20200926T140000
DTEND;TZID=Europe/Oslo:20200926T144500
SEQUENCE:4
END:VEVENT
BEGIN:VEVENT
UID:sabre-vobject-01f0edaf-7303-443e-88d8-ebc24af3b43b
DTSTAMP:20260424T173335Z
SUMMARY:Sleeping Beauty\, Briar Rose
DESCRIPTION:Be dazzled by a new telling of the classic tale\n
X-ALT-DESC:FMTTYPE=text/html:<!DOCTYPE HTML PUBLIC "-//W3C//DTD HTML 3.2//E
 N"><HTML><p>Be dazzled by a new telling of the classic tale</p>\n</HTML>
CREATED;TZID=Europe/Oslo:20200924T112340
URL;VALUE=URI:https://wiesbaden.armymwr.com/calendar/event
DTSTART;TZID=Europe/Oslo:20200927T140000
DTEND;TZID=Europe/Oslo:20200927T144500
SEQUENCE:5
END:VEVENT
END:VCALENDAR
