BEGIN:VCALENDAR
VERSION:2.0
PRODID:-//Sabre//Sabre VObject 4.5.8//EN
CALSCALE:GREGORIAN
BEGIN:VEVENT
UID:sabre-vobject-7413be1f-ed12-4b94-8741-455ee93d59ac
DTSTAMP:20260421T152246Z
SUMMARY:Penny-A-Pin Bowling
DESCRIPTION:Pay only for the pins you knock down\n
X-ALT-DESC:FMTTYPE=text/html:<!DOCTYPE HTML PUBLIC "-//W3C//DTD HTML 3.2//E
 N"><HTML><p>Pay only for the pins you knock down</p>\n</HTML>
CREATED;TZID=Europe/Oslo:20201103T173816
URL;VALUE=URI:https://wiesbaden.armymwr.com/calendar/event
DTSTART;TZID=Europe/Oslo:20200930T160000
DTEND;TZID=Europe/Oslo:20200930T220000
SEQUENCE:0
END:VEVENT
END:VCALENDAR
