BEGIN:VCALENDAR
VERSION:2.0
PRODID:-//Sabre//Sabre VObject 4.5.8//EN
CALSCALE:GREGORIAN
BEGIN:VEVENT
UID:sabre-vobject-eeefcd87-7eae-4ab7-94ae-5461c31a3eda
DTSTAMP:20260424T034926Z
SUMMARY:Penny-A-Pin Bowling
DESCRIPTION:Pay only for the pins you knock down\n
X-ALT-DESC:FMTTYPE=text/html:<!DOCTYPE HTML PUBLIC "-//W3C//DTD HTML 3.2//E
 N"><HTML><p>Pay only for the pins you knock down</p>\n</HTML>
CREATED;TZID=Europe/Oslo:20200901T090105
URL;VALUE=URI:https://wiesbaden.armymwr.com/calendar/event
DTSTART;TZID=Europe/Oslo:20200916T160000
DTEND;TZID=Europe/Oslo:20200916T220000
SEQUENCE:0
END:VEVENT
END:VCALENDAR
