BEGIN:VCALENDAR
VERSION:2.0
PRODID:-//Sabre//Sabre VObject 4.5.8//EN
CALSCALE:GREGORIAN
BEGIN:VEVENT
UID:sabre-vobject-d091c61a-ecb6-4df8-b288-8970c42f70bd
DTSTAMP:20260423T203258Z
SUMMARY:Penny-A-Pin Bowling
DESCRIPTION:Pay only for the pins you knock down\n
X-ALT-DESC:FMTTYPE=text/html:<!DOCTYPE HTML PUBLIC "-//W3C//DTD HTML 3.2//E
 N"><HTML><p>Pay only for the pins you knock down</p>\n</HTML>
CREATED;TZID=Europe/Oslo:20200901T085907
URL;VALUE=URI:https://wiesbaden.armymwr.com/calendar/event
DTSTART;TZID=Europe/Oslo:20200909T160000
DTEND;TZID=Europe/Oslo:20200909T220000
SEQUENCE:0
END:VEVENT
END:VCALENDAR
