BEGIN:VCALENDAR
VERSION:2.0
PRODID:-//Sabre//Sabre VObject 4.5.8//EN
CALSCALE:GREGORIAN
BEGIN:VEVENT
UID:sabre-vobject-502f7176-d8af-4e5e-aeff-e68865b80390
DTSTAMP:20260424T204020Z
SUMMARY:Ski and Snowboard Seasonal Rental
DESCRIPTION:Save money by renting your gear&nbsp\;during the month of Octob
 er\n
X-ALT-DESC:FMTTYPE=text/html:<!DOCTYPE HTML PUBLIC "-//W3C//DTD HTML 3.2//E
 N"><HTML><p>Save money by renting your gear&nbsp\;during the month of Octo
 ber</p>\n</HTML>
CREATED;TZID=Europe/Oslo:20200908T085422
URL;VALUE=URI:https://wiesbaden.armymwr.com/calendar/event
DTSTART;TZID=Europe/Oslo:20201001T110000
DTEND;TZID=Europe/Oslo:20201031T180000
SEQUENCE:0
END:VEVENT
END:VCALENDAR
