BEGIN:VCALENDAR
VERSION:2.0
PRODID:-//Sabre//Sabre VObject 4.5.8//EN
CALSCALE:GREGORIAN
BEGIN:VEVENT
UID:sabre-vobject-02a4ef25-6ff4-46ed-901d-47d41950e4d0
DTSTAMP:20260421T151133Z
SUMMARY:Coffee and Cars
DESCRIPTION:Treat Dad to a special day\n
X-ALT-DESC:FMTTYPE=text/html:<!DOCTYPE HTML PUBLIC "-//W3C//DTD HTML 3.2//E
 N"><HTML><p>Treat Dad to a special day</p>\n</HTML>
CREATED;TZID=Europe/Oslo:20200618T101603
URL;VALUE=URI:https://wiesbaden.armymwr.com/calendar/event
DTSTART;TZID=Europe/Oslo:20200620T100000
DTEND;TZID=Europe/Oslo:20200620T140000
SEQUENCE:0
END:VEVENT
END:VCALENDAR
