BEGIN:VCALENDAR
VERSION:2.0
PRODID:-//Sabre//Sabre VObject 4.5.8//EN
CALSCALE:GREGORIAN
BEGIN:VEVENT
UID:sabre-vobject-7e942878-bd77-4a31-a14b-2eca93e5da11
DTSTAMP:20260421T133417Z
SUMMARY:VIRTUAL Army 10 Mile Qualifier
DESCRIPTION:Track your time for a chance to qualify\n
X-ALT-DESC:FMTTYPE=text/html:<!DOCTYPE HTML PUBLIC "-//W3C//DTD HTML 3.2//E
 N"><HTML><p>Track your time for a chance to qualify</p>\n</HTML>
CREATED;TZID=Europe/Oslo:20200602T083423
URL;VALUE=URI:https://wiesbaden.armymwr.com/calendar/event
DTSTART;TZID=Europe/Oslo:20200620T070000
DTEND;TZID=Europe/Oslo:20200620T120000
SEQUENCE:0
END:VEVENT
END:VCALENDAR
