BEGIN:VCALENDAR
VERSION:2.0
PRODID:-//Sabre//Sabre VObject 4.5.8//EN
CALSCALE:GREGORIAN
BEGIN:VEVENT
UID:sabre-vobject-4b673e3d-e7e7-4cfd-b67d-f8e1158f3460
DTSTAMP:20260420T161750Z
SUMMARY:Sport Shooting Knowledge Course
DESCRIPTION:Earn a Certificate of Completion\n
X-ALT-DESC:FMTTYPE=text/html:<!DOCTYPE HTML PUBLIC "-//W3C//DTD HTML 3.2//E
 N"><HTML><p>Earn a Certificate of Completion</p>\n</HTML>
CREATED;TZID=Europe/Oslo:20200615T124007
URL;VALUE=URI:https://wiesbaden.armymwr.com/calendar/event
DTSTART;TZID=Europe/Oslo:20200611T180000
DTEND;TZID=Europe/Oslo:20200611T220000
SEQUENCE:0
END:VEVENT
BEGIN:VEVENT
UID:sabre-vobject-203d0077-f80f-4956-a50d-d9b673509e3b
DTSTAMP:20260420T161750Z
SUMMARY:Sport Shooting Knowledge Course
DESCRIPTION:Earn a Certificate of Completion\n
X-ALT-DESC:FMTTYPE=text/html:<!DOCTYPE HTML PUBLIC "-//W3C//DTD HTML 3.2//E
 N"><HTML><p>Earn a Certificate of Completion</p>\n</HTML>
CREATED;TZID=Europe/Oslo:20200615T124007
URL;VALUE=URI:https://wiesbaden.armymwr.com/calendar/event
DTSTART;TZID=Europe/Oslo:20200612T180000
DTEND;TZID=Europe/Oslo:20200612T220000
SEQUENCE:1
END:VEVENT
BEGIN:VEVENT
UID:sabre-vobject-a2e84c7b-6c2a-45da-8e92-eacf7a66c63e
DTSTAMP:20260420T161750Z
SUMMARY:Sport Shooting Knowledge Course
DESCRIPTION:Earn a Certificate of Completion\n
X-ALT-DESC:FMTTYPE=text/html:<!DOCTYPE HTML PUBLIC "-//W3C//DTD HTML 3.2//E
 N"><HTML><p>Earn a Certificate of Completion</p>\n</HTML>
CREATED;TZID=Europe/Oslo:20200615T124007
URL;VALUE=URI:https://wiesbaden.armymwr.com/calendar/event
DTSTART;TZID=Europe/Oslo:20200613T180000
DTEND;TZID=Europe/Oslo:20200613T220000
SEQUENCE:2
END:VEVENT
END:VCALENDAR
