BEGIN:VCALENDAR
VERSION:2.0
PRODID:-//Sabre//Sabre VObject 4.5.8//EN
CALSCALE:GREGORIAN
BEGIN:VEVENT
UID:sabre-vobject-5311c6b6-594e-443f-ad9d-f5724397cd74
DTSTAMP:20260423T021648Z
SUMMARY:U.S. Forces German Hunting Course
DESCRIPTION:Gain the skills and knowledge to hunt while in Germany\n
X-ALT-DESC:FMTTYPE=text/html:<!DOCTYPE HTML PUBLIC "-//W3C//DTD HTML 3.2//E
 N"><HTML><p>Gain the skills and knowledge to hunt while in Germany</p>\n</
 HTML>
CREATED;TZID=Europe/Oslo:20201007T113555
URL;VALUE=URI:https://wiesbaden.armymwr.com/calendar/event
DTSTART;TZID=Europe/Oslo:20200804T180000
DTEND;TZID=Europe/Oslo:20200804T210000
SEQUENCE:0
END:VEVENT
END:VCALENDAR
