BEGIN:VCALENDAR
VERSION:2.0
PRODID:-//Sabre//Sabre VObject 4.5.8//EN
CALSCALE:GREGORIAN
BEGIN:VEVENT
UID:sabre-vobject-27d34d2e-ad92-444c-9382-db891e9d10c6
DTSTAMP:20260420T101047Z
SUMMARY:Happy Birthday ACS
DESCRIPTION:Come celebrate at Army Community Service\n
X-ALT-DESC:FMTTYPE=text/html:<!DOCTYPE HTML PUBLIC "-//W3C//DTD HTML 3.2//E
 N"><HTML><p>Come celebrate at Army Community Service</p>\n</HTML>
CREATED;TZID=Europe/Oslo:20170913T134600
URL;VALUE=URI:https://wiesbaden.armymwr.com/calendar/event
DTSTART;TZID=Europe/Oslo:20170721T110000
DTEND;TZID=Europe/Oslo:20170721T150000
SEQUENCE:0
END:VEVENT
END:VCALENDAR
