BEGIN:VCALENDAR
VERSION:2.0
PRODID:-//Sabre//Sabre VObject 4.5.8//EN
CALSCALE:GREGORIAN
BEGIN:VEVENT
UID:sabre-vobject-0ec9fc27-94fb-41d5-81c5-2adbf073e951
DTSTAMP:20260420T231703Z
SUMMARY:LIT In Concert
DESCRIPTION:Rock out to a legendary band\n
X-ALT-DESC:FMTTYPE=text/html:<!DOCTYPE HTML PUBLIC "-//W3C//DTD HTML 3.2//E
 N"><HTML><p>Rock out to a legendary band</p>\n</HTML>
CREATED;TZID=Europe/Oslo:20170913T134600
URL;VALUE=URI:https://wiesbaden.armymwr.com/calendar/event
DTSTART;TZID=Europe/Oslo:20170703T190000
DTEND;TZID=Europe/Oslo:20170703T203000
SEQUENCE:0
END:VEVENT
END:VCALENDAR
