BEGIN:VCALENDAR
VERSION:2.0
PRODID:-//Sabre//Sabre VObject 4.5.8//EN
CALSCALE:GREGORIAN
BEGIN:VEVENT
UID:sabre-vobject-119bb496-ffd8-43f0-b88b-73a89c4684bf
DTSTAMP:20260421T060102Z
SUMMARY:CYS Start Smart Programs\, Summer Sports Camps and Clinics
DESCRIPTION:Sports for community youths this summer\n
X-ALT-DESC:FMTTYPE=text/html:<!DOCTYPE HTML PUBLIC "-//W3C//DTD HTML 3.2//E
 N"><HTML><p>Sports for community youths this summer</p>\n</HTML>
CREATED;TZID=Europe/Oslo:20170913T134600
URL;VALUE=URI:https://wiesbaden.armymwr.com/
DTSTART;TZID=Europe/Oslo:20170619T063000
DTEND;TZID=Europe/Oslo:20170825T073000
SEQUENCE:0
END:VEVENT
END:VCALENDAR
