BEGIN:VCALENDAR
VERSION:2.0
PRODID:-//Sabre//Sabre VObject 4.5.8//EN
CALSCALE:GREGORIAN
BEGIN:VEVENT
UID:sabre-vobject-945bbecb-d338-40bb-bf3c-e403d23feafd
DTSTAMP:20260422T044226Z
SUMMARY:Open Auction
DESCRIPTION:Cars for sale\n
X-ALT-DESC:FMTTYPE=text/html:<!DOCTYPE HTML PUBLIC "-//W3C//DTD HTML 3.2//E
 N"><HTML><p>Cars for sale</p>\n</HTML>
CREATED;TZID=Europe/Oslo:20170913T134600
URL;VALUE=URI:https://wiesbaden.armymwr.com/calendar/event
DTSTART;TZID=Europe/Oslo:20170520T100000
DTEND;TZID=Europe/Oslo:20170520T110000
SEQUENCE:0
END:VEVENT
END:VCALENDAR
