BEGIN:VCALENDAR
VERSION:2.0
PRODID:-//Sabre//Sabre VObject 4.5.8//EN
CALSCALE:GREGORIAN
BEGIN:VEVENT
UID:sabre-vobject-c3c6cb26-a97e-400c-bdf3-fd8023822c03
DTSTAMP:20260422T135851Z
SUMMARY:Rhein in Flames
DESCRIPTION:Experience the magic\n
X-ALT-DESC:FMTTYPE=text/html:<!DOCTYPE HTML PUBLIC "-//W3C//DTD HTML 3.2//E
 N"><HTML><p>Experience the magic</p>\n</HTML>
CREATED;TZID=Europe/Oslo:20260422T105044
URL;VALUE=URI:https://wiesbaden.armymwr.com/calendar/event
DTSTART;TZID=Europe/Oslo:20260502T000000
DTEND;TZID=Europe/Oslo:20260502T235959
SEQUENCE:0
END:VEVENT
BEGIN:VEVENT
UID:sabre-vobject-0cec9511-c8ce-4ea3-bb84-2e02fd30d739
DTSTAMP:20260422T135851Z
SUMMARY:Rhein in Flames
DESCRIPTION:Experience the magic\n
X-ALT-DESC:FMTTYPE=text/html:<!DOCTYPE HTML PUBLIC "-//W3C//DTD HTML 3.2//E
 N"><HTML><p>Experience the magic</p>\n</HTML>
CREATED;TZID=Europe/Oslo:20260422T105044
URL;VALUE=URI:https://wiesbaden.armymwr.com/calendar/event
DTSTART;TZID=Europe/Oslo:20260919T000000
DTEND;TZID=Europe/Oslo:20260919T235959
SEQUENCE:1
END:VEVENT
END:VCALENDAR
