BEGIN:VCALENDAR
VERSION:2.0
PRODID:-//Sabre//Sabre VObject 4.5.8//EN
CALSCALE:GREGORIAN
BEGIN:VEVENT
UID:sabre-vobject-9650240f-c9c0-48c1-a964-b5df0103b9f6
DTSTAMP:20260422T080528Z
SUMMARY:Armed Forces Entertainment: Chef Robert Irvine's Warrior Kitchen
DESCRIPTION:Fueling the fight\n
X-ALT-DESC:FMTTYPE=text/html:<!DOCTYPE HTML PUBLIC "-//W3C//DTD HTML 3.2//E
 N"><HTML><p>Fueling the fight</p>\n</HTML>
CREATED;TZID=Europe/Oslo:20260421T141723
URL;VALUE=URI:https://wiesbaden.armymwr.com/calendar/event
DTSTART;TZID=Europe/Oslo:20260505T180000
DTEND;TZID=Europe/Oslo:20260505T190000
SEQUENCE:0
END:VEVENT
END:VCALENDAR
