BEGIN:VCALENDAR
VERSION:2.0
PRODID:-//Sabre//Sabre VObject 4.5.8//EN
CALSCALE:GREGORIAN
BEGIN:VEVENT
UID:sabre-vobject-7b33a9d8-cafe-43fe-8504-811e62f86c19
DTSTAMP:20260422T080523Z
SUMMARY:2026 Army Outdoor Recreation Hiking & Biking Challenge
DESCRIPTION:Track your kilometers as you bike and hike through Europe\n
X-ALT-DESC:FMTTYPE=text/html:<!DOCTYPE HTML PUBLIC "-//W3C//DTD HTML 3.2//E
 N"><HTML><p>Track your kilometers as you bike and hike through Europe</p>\
 n</HTML>
CREATED;TZID=Europe/Oslo:20260420T124737
URL;VALUE=URI:https://wiesbaden.armymwr.com/calendar/event
DTSTART;TZID=Europe/Oslo:20260501T000000
DTEND;TZID=Europe/Oslo:20260930T235959
SEQUENCE:0
END:VEVENT
END:VCALENDAR
