BEGIN:VCALENDAR
VERSION:2.0
PRODID:-//Sabre//Sabre VObject 4.5.8//EN
CALSCALE:GREGORIAN
BEGIN:VEVENT
UID:sabre-vobject-1e1626c7-1928-4adf-bcdb-8c576891c819
DTSTAMP:20260423T184506Z
SUMMARY:Ski Trips with Outdoor Recreation
DESCRIPTION:Beginner ski and snowboard lessons are available on all trips\n
X-ALT-DESC:FMTTYPE=text/html:<!DOCTYPE HTML PUBLIC "-//W3C//DTD HTML 3.2//E
 N"><HTML><p>Beginner ski and snowboard lessons are available on all trips<
 /p>\n</HTML>
CREATED;TZID=Europe/Oslo:20260102T115511
URL;VALUE=URI:https://wiesbaden.armymwr.com/calendar/event
DTSTART;TZID=Europe/Oslo:20260117T000000
DTEND;TZID=Europe/Oslo:20260117T235959
SEQUENCE:0
END:VEVENT
BEGIN:VEVENT
UID:sabre-vobject-b58d68ed-bb43-4547-b8fe-000db6227ae3
DTSTAMP:20260423T184506Z
SUMMARY:Ski Trips with Outdoor Recreation
DESCRIPTION:Beginner ski and snowboard lessons are available on all trips\n
X-ALT-DESC:FMTTYPE=text/html:<!DOCTYPE HTML PUBLIC "-//W3C//DTD HTML 3.2//E
 N"><HTML><p>Beginner ski and snowboard lessons are available on all trips<
 /p>\n</HTML>
CREATED;TZID=Europe/Oslo:20260102T115511
URL;VALUE=URI:https://wiesbaden.armymwr.com/calendar/event
DTSTART;TZID=Europe/Oslo:20260207T000000
DTEND;TZID=Europe/Oslo:20260207T235959
SEQUENCE:1
END:VEVENT
BEGIN:VEVENT
UID:sabre-vobject-a5c3ba0f-091a-4cbf-aa24-f400b75ca005
DTSTAMP:20260423T184506Z
SUMMARY:Ski Trips with Outdoor Recreation
DESCRIPTION:Beginner ski and snowboard lessons are available on all trips\n
X-ALT-DESC:FMTTYPE=text/html:<!DOCTYPE HTML PUBLIC "-//W3C//DTD HTML 3.2//E
 N"><HTML><p>Beginner ski and snowboard lessons are available on all trips<
 /p>\n</HTML>
CREATED;TZID=Europe/Oslo:20260102T115511
URL;VALUE=URI:https://wiesbaden.armymwr.com/calendar/event
DTSTART;TZID=Europe/Oslo:20260213T000000
DTEND;TZID=Europe/Oslo:20260213T235959
SEQUENCE:2
END:VEVENT
BEGIN:VEVENT
UID:sabre-vobject-313a84c4-6f2e-4a9e-adb8-bc726cf11dfb
DTSTAMP:20260423T184506Z
SUMMARY:Ski Trips with Outdoor Recreation
DESCRIPTION:Beginner ski and snowboard lessons are available on all trips\n
X-ALT-DESC:FMTTYPE=text/html:<!DOCTYPE HTML PUBLIC "-//W3C//DTD HTML 3.2//E
 N"><HTML><p>Beginner ski and snowboard lessons are available on all trips<
 /p>\n</HTML>
CREATED;TZID=Europe/Oslo:20260102T115511
URL;VALUE=URI:https://wiesbaden.armymwr.com/calendar/event
DTSTART;TZID=Europe/Oslo:20260307T000000
DTEND;TZID=Europe/Oslo:20260307T235959
SEQUENCE:3
END:VEVENT
BEGIN:VEVENT
UID:sabre-vobject-b6a5aae7-6fe7-4bdd-8f85-37d23320f846
DTSTAMP:20260423T184506Z
SUMMARY:Ski Trips with Outdoor Recreation
DESCRIPTION:Beginner ski and snowboard lessons are available on all trips\n
X-ALT-DESC:FMTTYPE=text/html:<!DOCTYPE HTML PUBLIC "-//W3C//DTD HTML 3.2//E
 N"><HTML><p>Beginner ski and snowboard lessons are available on all trips<
 /p>\n</HTML>
CREATED;TZID=Europe/Oslo:20260102T115511
URL;VALUE=URI:https://wiesbaden.armymwr.com/calendar/event
DTSTART;TZID=Europe/Oslo:20260321T000000
DTEND;TZID=Europe/Oslo:20260321T235959
SEQUENCE:4
END:VEVENT
END:VCALENDAR
