BEGIN:VCALENDAR
VERSION:2.0
PRODID:-//Sabre//Sabre VObject 4.5.8//EN
CALSCALE:GREGORIAN
BEGIN:VEVENT
UID:sabre-vobject-1e68de1a-1e98-44a3-9155-36c860d1af4c
DTSTAMP:20260425T192812Z
SUMMARY:Military Appreciation Meal
DESCRIPTION:Free meals for our Active Service Members\, U.S. &amp\; Allied\
 , Veterans and first responders\n
X-ALT-DESC:FMTTYPE=text/html:<!DOCTYPE HTML PUBLIC "-//W3C//DTD HTML 3.2//E
 N"><HTML><p>Free meals for our Active Service Members\, U.S. &amp\; Allied
 \, Veterans and first responders</p>\n</HTML>
CREATED;TZID=Europe/Oslo:20251103T125309
URL;VALUE=URI:https://wiesbaden.armymwr.com/calendar/event
DTSTART;TZID=Europe/Oslo:20251118T113000
DTEND;TZID=Europe/Oslo:20251118T130000
SEQUENCE:0
END:VEVENT
END:VCALENDAR
